BEGIN:VCALENDAR
VERSION:2.0
PRODID:City of Sammamish Event Calendar
METHOD:PUBLISH
BEGIN:VEVENT
DTSTART:20230411T120000
DTEND:20230411T143000
SUMMARY:Volunteer - Evan's Creek 11th
LOCATION:Evans Creek Preserve
PRIORITY:3
END:VEVENT
END:VCALENDAR
