BEGIN:VCALENDAR
VERSION:2.0
PRODID:City of Sammamish Event Calendar
METHOD:PUBLISH
BEGIN:VEVENT
DTSTART:20230326T110000
DTEND:20230326T133000
SUMMARY:Volunteer - Pollinator Bed at Windham
PRIORITY:3
END:VEVENT
END:VCALENDAR
