BEGIN:VCALENDAR
VERSION:2.0
PRODID:City of Sammamish Event Calendar
METHOD:PUBLISH
BEGIN:VEVENT
DTSTART:20230415T090000
DTEND:20230415T150000
SUMMARY:April 15, 2023 Recycling Event
LOCATION:Eastside Catholic School
PRIORITY:3
END:VEVENT
END:VCALENDAR
